Package: a4 Version: 1.52.0 Command: chmod a+r a4 -R && E:\biocbuild\bbs-3.19-bioc\R\bin\R.exe CMD build --keep-empty-dirs --no-resave-data a4 StartedAt: 2024-10-16 17:29:25 -0400 (Wed, 16 Oct 2024) EndedAt: 2024-10-16 17:32:44 -0400 (Wed, 16 Oct 2024) EllapsedTime: 199.7 seconds RetCode: 0 Status: OK PackageFile: a4_1.52.0.tar.gz PackageFileSize: 1022 KiB