Package: a4 Version: 1.52.0 Command: E:\biocbuild\bbs-3.19-bioc\R\bin\R.exe CMD INSTALL a4 StartedAt: 2024-10-16 17:04:03 -0400 (Wed, 16 Oct 2024) EndedAt: 2024-10-16 17:04:22 -0400 (Wed, 16 Oct 2024) EllapsedTime: 18.8 seconds RetCode: 0 Status: OK