Package: a4Classif Version: 1.52.0 Command: rm -rf a4Classif.buildbin-libdir && mkdir a4Classif.buildbin-libdir && /Users/biocbuild/BBS/utils/build-universal.sh a4Classif_1.52.0.tar.gz /Library/Frameworks/R.framework/Resources/bin/R a4Classif.buildbin-libdir StartedAt: 2024-10-18 17:10:58 -0400 (Fri, 18 Oct 2024) EndedAt: 2024-10-18 17:11:09 -0400 (Fri, 18 Oct 2024) EllapsedTime: 11.2 seconds RetCode: 0 Status: OK PackageFile: a4Classif_1.52.0.tgz PackageFileSize: 677.8 KiB