Package: a4Reporting Version: 1.52.0 Maintainer: Laure Cougnaud MaintainerEmail: laure.cougnaud at openanalytics.eu git_url: https://git.bioconductor.org/packages/a4Reporting git_branch: RELEASE_3_19 git_last_commit: ce1eea6 git_last_commit_date: 2024-04-30 10:24:18 -0400 (Tue, 30 Apr 2024)