Package: acde Version: 1.34.0 Command: /home/biocbuild/R/R-beta-2024-04-15_r86425/bin/R CMD build --keep-empty-dirs --no-resave-data acde StartedAt: 2024-05-08 22:13:54 -0000 (Wed, 08 May 2024) EndedAt: 2024-05-08 22:14:06 -0000 (Wed, 08 May 2024) EllapsedTime: 12.0 seconds RetCode: 0 Status: OK PackageFile: acde_1.34.0.tar.gz PackageFileSize: 8.818 MiB