Package: acde Version: 1.34.0 Command: rm -rf acde.buildbin-libdir && mkdir acde.buildbin-libdir && E:\biocbuild\bbs-3.19-bioc\R\bin\R.exe CMD INSTALL --build --library=acde.buildbin-libdir acde_1.34.0.tar.gz StartedAt: 2024-10-17 07:17:57 -0400 (Thu, 17 Oct 2024) EndedAt: 2024-10-17 07:18:11 -0400 (Thu, 17 Oct 2024) EllapsedTime: 14.3 seconds RetCode: 0 Status: OK PackageFile: acde_1.34.0.zip PackageFileSize: 8.077 MiB