Package: adSplit Version: 1.74.0 Command: /Library/Frameworks/R.framework/Resources/bin/R CMD check --install=check:adSplit.install-out.txt --library=/Library/Frameworks/R.framework/Resources/library --no-vignettes --timings adSplit_1.74.0.tar.gz StartedAt: 2024-10-17 00:50:14 -0400 (Thu, 17 Oct 2024) EndedAt: 2024-10-17 01:00:04 -0400 (Thu, 17 Oct 2024) EllapsedTime: 590.7 seconds RetCode: 0 Status: OK CheckDir: adSplit.Rcheck Warnings: 0