Package: adSplit Version: 1.74.0 Command: /home/biocbuild/bbs-3.19-bioc/R/bin/R CMD build --keep-empty-dirs --no-resave-data adSplit StartedAt: 2024-10-16 16:51:48 -0400 (Wed, 16 Oct 2024) EndedAt: 2024-10-16 16:53:39 -0400 (Wed, 16 Oct 2024) EllapsedTime: 110.2 seconds RetCode: 0 Status: OK PackageFile: adSplit_1.74.0.tar.gz PackageFileSize: 282.9 KiB