Package: adSplit Version: 1.74.0 Command: rm -rf adSplit.buildbin-libdir && mkdir adSplit.buildbin-libdir && E:\biocbuild\bbs-3.19-bioc\R\bin\R.exe CMD INSTALL --build --library=adSplit.buildbin-libdir adSplit_1.74.0.tar.gz StartedAt: 2024-10-17 07:17:57 -0400 (Thu, 17 Oct 2024) EndedAt: 2024-10-17 07:18:38 -0400 (Thu, 17 Oct 2024) EllapsedTime: 41.0 seconds RetCode: 0 Status: OK PackageFile: adSplit_1.74.0.zip PackageFileSize: 357.1 KiB