Package: adSplit Version: 1.74.0 Command: E:\biocbuild\bbs-3.19-bioc\R\bin\R.exe CMD check --no-multiarch --install=check:adSplit.install-out.txt --library=E:\biocbuild\bbs-3.19-bioc\R\library --no-vignettes --timings adSplit_1.74.0.tar.gz StartedAt: 2024-10-16 22:42:14 -0400 (Wed, 16 Oct 2024) EndedAt: 2024-10-16 22:47:05 -0400 (Wed, 16 Oct 2024) EllapsedTime: 291.1 seconds RetCode: 0 Status: OK CheckDir: adSplit.Rcheck Warnings: 0