Package: adSplit Version: 1.74.0 Command: E:\biocbuild\bbs-3.19-bioc\R\bin\R.exe CMD INSTALL adSplit StartedAt: 2024-10-16 17:06:13 -0400 (Wed, 16 Oct 2024) EndedAt: 2024-10-16 17:06:58 -0400 (Wed, 16 Oct 2024) EllapsedTime: 45.4 seconds RetCode: 0 Status: OK