Package: adductomicsR Version: 1.20.0 Command: /Library/Frameworks/R.framework/Resources/bin/R CMD build --keep-empty-dirs --no-resave-data adductomicsR StartedAt: 2024-10-16 19:08:13 -0400 (Wed, 16 Oct 2024) EndedAt: 2024-10-16 19:10:32 -0400 (Wed, 16 Oct 2024) EllapsedTime: 139.7 seconds RetCode: 0 Status: OK PackageFile: adductomicsR_1.20.0.tar.gz PackageFileSize: 752 KiB