Package: adductomicsR Version: 1.20.0 Command: /Library/Frameworks/R.framework/Resources/bin/R CMD INSTALL adductomicsR StartedAt: 2024-10-16 17:45:42 -0400 (Wed, 16 Oct 2024) EndedAt: 2024-10-16 17:46:10 -0400 (Wed, 16 Oct 2024) EllapsedTime: 28.3 seconds RetCode: 0 Status: OK