Package: adductomicsR Version: 1.20.0 Command: rm -rf adductomicsR.buildbin-libdir && mkdir adductomicsR.buildbin-libdir && /Users/biocbuild/BBS/utils/build-universal.sh adductomicsR_1.20.0.tar.gz /Library/Frameworks/R.framework/Resources/bin/R adductomicsR.buildbin-libdir StartedAt: 2024-10-17 15:35:49 -0400 (Thu, 17 Oct 2024) EndedAt: 2024-10-17 15:36:54 -0400 (Thu, 17 Oct 2024) EllapsedTime: 65.4 seconds RetCode: 0 Status: OK PackageFile: adductomicsR_1.20.0.tgz PackageFileSize: 1.225 MiB