Package: adductomicsR Version: 1.20.0 Command: /Library/Frameworks/R.framework/Resources/bin/R CMD check --install=check:adductomicsR.install-out.txt --library=/Library/Frameworks/R.framework/Resources/library --no-vignettes --timings adductomicsR_1.20.0.tar.gz StartedAt: 2024-10-17 00:50:14 -0400 (Thu, 17 Oct 2024) EndedAt: 2024-10-17 00:58:42 -0400 (Thu, 17 Oct 2024) EllapsedTime: 508.7 seconds RetCode: 0 Status: WARNINGS CheckDir: adductomicsR.Rcheck Warnings: 1