Package: adductomicsR Version: 1.20.0 Command: /home/biocbuild/bbs-3.19-bioc/R/bin/R CMD build --keep-empty-dirs --no-resave-data adductomicsR StartedAt: 2024-10-16 16:51:40 -0400 (Wed, 16 Oct 2024) EndedAt: 2024-10-16 17:31:41 -0400 (Wed, 16 Oct 2024) EllapsedTime: 2400.1 seconds RetCode: None Status: TIMEOUT PackageFile: None PackageFileSize: NA