Package: adductomicsR Version: 1.20.0 Command: /home/biocbuild/bbs-3.19-bioc/R/bin/R CMD check --install=check:adductomicsR.install-out.txt --library=/home/biocbuild/bbs-3.19-bioc/R/site-library --timings adductomicsR_1.20.0.tar.gz StartedAt: 2024-10-09 20:28:01 -0400 (Wed, 09 Oct 2024) EndedAt: 2024-10-09 20:43:04 -0400 (Wed, 09 Oct 2024) EllapsedTime: 903.1 seconds RetCode: 0 Status: WARNINGS CheckDir: adductomicsR.Rcheck Warnings: 1