Package: adductomicsR Version: 1.20.0 Command: rm -rf adductomicsR.buildbin-libdir && mkdir adductomicsR.buildbin-libdir && F:\biocbuild\bbs-3.19-bioc\R\bin\R.exe CMD INSTALL --build --library=adductomicsR.buildbin-libdir adductomicsR_1.20.0.tar.gz StartedAt: 2024-06-27 07:47:59 -0400 (Thu, 27 Jun 2024) EndedAt: 2024-06-27 07:48:52 -0400 (Thu, 27 Jun 2024) EllapsedTime: 53.4 seconds RetCode: 0 Status: OK PackageFile: adductomicsR_1.20.0.zip PackageFileSize: 1.226 MiB