Package: adductomicsR Version: 1.20.0 Command: rm -rf adductomicsR.buildbin-libdir && mkdir adductomicsR.buildbin-libdir && E:\biocbuild\bbs-3.19-bioc\R\bin\R.exe CMD INSTALL --build --library=adductomicsR.buildbin-libdir adductomicsR_1.20.0.tar.gz StartedAt: 2024-10-17 07:17:57 -0400 (Thu, 17 Oct 2024) EndedAt: 2024-10-17 07:19:18 -0400 (Thu, 17 Oct 2024) EllapsedTime: 80.6 seconds RetCode: 0 Status: OK PackageFile: adductomicsR_1.20.0.zip PackageFileSize: 1.227 MiB