Package: adductomicsR Version: 1.20.0 Command: E:\biocbuild\bbs-3.19-bioc\R\bin\R.exe CMD check --no-multiarch --install=check:adductomicsR.install-out.txt --library=E:\biocbuild\bbs-3.19-bioc\R\library --no-vignettes --timings adductomicsR_1.20.0.tar.gz StartedAt: 2024-10-16 22:42:14 -0400 (Wed, 16 Oct 2024) EndedAt: 2024-10-16 22:46:21 -0400 (Wed, 16 Oct 2024) EllapsedTime: 246.6 seconds RetCode: 0 Status: WARNINGS CheckDir: adductomicsR.Rcheck Warnings: 1