Package: adductomicsR Version: 1.20.0 Command: E:\biocbuild\bbs-3.19-bioc\R\bin\R.exe CMD INSTALL adductomicsR StartedAt: 2024-10-16 16:54:14 -0400 (Wed, 16 Oct 2024) EndedAt: 2024-10-16 16:55:34 -0400 (Wed, 16 Oct 2024) EllapsedTime: 79.4 seconds RetCode: 0 Status: OK