Package: affxparser Version: 1.76.0 Command: rm -rf affxparser.buildbin-libdir && mkdir affxparser.buildbin-libdir && /Users/biocbuild/BBS/utils/build-universal.sh affxparser_1.76.0.tar.gz /Library/Frameworks/R.framework/Resources/bin/R affxparser.buildbin-libdir StartedAt: 2024-10-18 17:11:58 -0400 (Fri, 18 Oct 2024) EndedAt: 2024-10-18 17:14:16 -0400 (Fri, 18 Oct 2024) EllapsedTime: 137.4 seconds RetCode: 0 Status: OK PackageFile: affxparser_1.76.0.tgz PackageFileSize: 1.573 MiB