Package: affxparser Version: 1.76.0 Command: rm -rf affxparser.buildbin-libdir && mkdir affxparser.buildbin-libdir && /Users/biocbuild/BBS/utils/build-universal.sh affxparser_1.76.0.tar.gz /Library/Frameworks/R.framework/Resources/bin/R affxparser.buildbin-libdir StartedAt: 2024-06-11 10:03:15 -0400 (Tue, 11 Jun 2024) EndedAt: 2024-06-11 10:06:14 -0400 (Tue, 11 Jun 2024) EllapsedTime: 179.1 seconds RetCode: 0 Status: OK PackageFile: affxparser_1.76.0.tgz PackageFileSize: 1.571 MiB