Package: affxparser Version: 1.76.0 Command: /Library/Frameworks/R.framework/Resources/bin/R CMD check --install=check:affxparser.install-out.txt --library=/Library/Frameworks/R.framework/Resources/library --no-vignettes --timings affxparser_1.76.0.tar.gz StartedAt: 2024-06-10 06:57:18 -0400 (Mon, 10 Jun 2024) EndedAt: 2024-06-10 06:58:53 -0400 (Mon, 10 Jun 2024) EllapsedTime: 94.7 seconds RetCode: 0 Status: WARNINGS CheckDir: affxparser.Rcheck Warnings: 2