Package: affxparser Version: 1.76.0 Command: /Library/Frameworks/R.framework/Resources/bin/R CMD INSTALL affxparser StartedAt: 2024-06-09 15:01:47 -0400 (Sun, 09 Jun 2024) EndedAt: 2024-06-09 15:03:52 -0400 (Sun, 09 Jun 2024) EllapsedTime: 124.7 seconds RetCode: 0 Status: OK