Package: affxparser Version: 1.76.0 Command: /home/biocbuild/R/R-beta-2024-04-15_r86425/bin/R CMD INSTALL affxparser StartedAt: 2024-05-08 20:02:12 -0000 (Wed, 08 May 2024) EndedAt: 2024-05-08 20:04:53 -0000 (Wed, 08 May 2024) EllapsedTime: 160.7 seconds RetCode: 0 Status: OK