Package: affxparser Version: 1.76.0 Command: rm -rf affxparser.buildbin-libdir && mkdir affxparser.buildbin-libdir && /Users/biocbuild/BBS/utils/build-universal.sh affxparser_1.76.0.tar.gz /Library/Frameworks/R.framework/Resources/bin/R affxparser.buildbin-libdir StartedAt: 2024-06-10 00:05:56 -0400 (Mon, 10 Jun 2024) EndedAt: 2024-06-10 00:08:08 -0400 (Mon, 10 Jun 2024) EllapsedTime: 131.6 seconds RetCode: 0 Status: OK PackageFile: affxparser_1.76.0.tgz PackageFileSize: 1.677 MiB