Package: affxparser Version: 1.76.0 Command: /home/biocbuild/bbs-3.19-bioc/R/bin/R CMD build --keep-empty-dirs --no-resave-data affxparser StartedAt: 2024-10-16 16:51:53 -0400 (Wed, 16 Oct 2024) EndedAt: 2024-10-16 16:51:55 -0400 (Wed, 16 Oct 2024) EllapsedTime: 2.0 seconds RetCode: 0 Status: OK PackageFile: affxparser_1.76.0.tar.gz PackageFileSize: 782.5 KiB