Package: affxparser Version: 1.76.0 Command: /home/biocbuild/bbs-3.19-bioc/R/bin/R CMD INSTALL affxparser StartedAt: 2024-10-16 15:49:10 -0400 (Wed, 16 Oct 2024) EndedAt: 2024-10-16 15:50:27 -0400 (Wed, 16 Oct 2024) EllapsedTime: 77.1 seconds RetCode: 0 Status: OK