Package: affxparser Version: 1.76.0 Command: rm -rf affxparser.buildbin-libdir && mkdir affxparser.buildbin-libdir && F:\biocbuild\bbs-3.19-bioc\R\bin\R.exe CMD INSTALL --build --library=affxparser.buildbin-libdir affxparser_1.76.0.tar.gz StartedAt: 2024-06-27 07:47:59 -0400 (Thu, 27 Jun 2024) EndedAt: 2024-06-27 07:54:25 -0400 (Thu, 27 Jun 2024) EllapsedTime: 386.4 seconds RetCode: 0 Status: OK PackageFile: affxparser_1.76.0.zip PackageFileSize: 1.275 MiB