Package: affxparser Version: 1.76.0 Command: F:\biocbuild\bbs-3.19-bioc\R\bin\R.exe CMD check --no-multiarch --install=check:affxparser.install-out.txt --library=F:\biocbuild\bbs-3.19-bioc\R\library --no-vignettes --timings affxparser_1.76.0.tar.gz StartedAt: 2024-06-26 22:47:44 -0400 (Wed, 26 Jun 2024) EndedAt: 2024-06-26 22:50:19 -0400 (Wed, 26 Jun 2024) EllapsedTime: 155.0 seconds RetCode: 0 Status: WARNINGS CheckDir: affxparser.Rcheck Warnings: 1