Package: affxparser Version: 1.76.0 Command: rm -rf affxparser.buildbin-libdir && mkdir affxparser.buildbin-libdir && E:\biocbuild\bbs-3.19-bioc\R\bin\R.exe CMD INSTALL --build --library=affxparser.buildbin-libdir affxparser_1.76.0.tar.gz StartedAt: 2024-10-17 07:17:57 -0400 (Thu, 17 Oct 2024) EndedAt: 2024-10-17 07:24:48 -0400 (Thu, 17 Oct 2024) EllapsedTime: 411.1 seconds RetCode: 0 Status: OK PackageFile: affxparser_1.76.0.zip PackageFileSize: 1.276 MiB