Package: affxparser Version: 1.76.0 Command: chmod a+r affxparser -R && E:\biocbuild\bbs-3.19-bioc\R\bin\R.exe CMD build --keep-empty-dirs --no-resave-data affxparser StartedAt: 2024-10-16 17:29:44 -0400 (Wed, 16 Oct 2024) EndedAt: 2024-10-16 17:30:32 -0400 (Wed, 16 Oct 2024) EllapsedTime: 48.2 seconds RetCode: 0 Status: OK PackageFile: affxparser_1.76.0.tar.gz PackageFileSize: 782.3 KiB