Package: affy Version: 1.82.0 Command: rm -rf affy.buildbin-libdir && mkdir affy.buildbin-libdir && /Users/biocbuild/BBS/utils/build-universal.sh affy_1.82.0.tar.gz /Library/Frameworks/R.framework/Resources/bin/R affy.buildbin-libdir StartedAt: 2024-10-18 17:12:10 -0400 (Fri, 18 Oct 2024) EndedAt: 2024-10-18 17:12:29 -0400 (Fri, 18 Oct 2024) EllapsedTime: 19.6 seconds RetCode: 0 Status: OK PackageFile: affy_1.82.0.tgz PackageFileSize: 1.987 MiB