Package: affy Version: 1.82.0 Command: /home/biocbuild/R/R-beta-2024-04-15_r86425/bin/R CMD check --install=check:affy.install-out.txt --library=/home/biocbuild/R/R-beta-2024-04-15_r86425/site-library --no-vignettes --timings affy_1.82.0.tar.gz StartedAt: 2024-05-09 04:37:13 -0000 (Thu, 09 May 2024) EndedAt: 2024-05-09 04:39:52 -0000 (Thu, 09 May 2024) EllapsedTime: 158.3 seconds RetCode: 0 Status: WARNINGS CheckDir: affy.Rcheck Warnings: 1