Package: affy Version: 1.82.0 Command: rm -rf affy.buildbin-libdir && mkdir affy.buildbin-libdir && /Users/biocbuild/BBS/utils/build-universal.sh affy_1.82.0.tar.gz /Library/Frameworks/R.framework/Resources/bin/R affy.buildbin-libdir StartedAt: 2024-06-10 00:05:56 -0400 (Mon, 10 Jun 2024) EndedAt: 2024-06-10 00:06:22 -0400 (Mon, 10 Jun 2024) EllapsedTime: 26.1 seconds RetCode: 0 Status: OK PackageFile: affy_1.82.0.tgz PackageFileSize: 1.99 MiB