Package: affy Version: 1.82.0 Command: rm -rf affy.buildbin-libdir && mkdir affy.buildbin-libdir && /Users/biocbuild/BBS/utils/build-universal.sh affy_1.82.0.tar.gz /Library/Frameworks/R.framework/Resources/bin/R affy.buildbin-libdir StartedAt: 2024-10-17 15:35:49 -0400 (Thu, 17 Oct 2024) EndedAt: 2024-10-17 15:36:23 -0400 (Thu, 17 Oct 2024) EllapsedTime: 33.7 seconds RetCode: 0 Status: OK PackageFile: affy_1.82.0.tgz PackageFileSize: 1.989 MiB