Package: affy Version: 1.82.0 Command: /home/biocbuild/bbs-3.19-bioc/R/bin/R CMD build --keep-empty-dirs --no-resave-data affy StartedAt: 2024-10-16 16:51:55 -0400 (Wed, 16 Oct 2024) EndedAt: 2024-10-16 16:52:51 -0400 (Wed, 16 Oct 2024) EllapsedTime: 56.1 seconds RetCode: 0 Status: OK PackageFile: affy_1.82.0.tar.gz PackageFileSize: 1.167 MiB