Package: affyContam Version: 1.62.0 Command: chmod a+r affyContam -R && F:\biocbuild\bbs-3.19-bioc\R\bin\R.exe CMD build --keep-empty-dirs --no-resave-data affyContam StartedAt: 2024-06-26 17:01:20 -0400 (Wed, 26 Jun 2024) EndedAt: 2024-06-26 17:01:47 -0400 (Wed, 26 Jun 2024) EllapsedTime: 26.7 seconds RetCode: 0 Status: OK PackageFile: affyContam_1.62.0.tar.gz PackageFileSize: 413.5 KiB