Package: affyContam Version: 1.62.0 Command: rm -rf affyContam.buildbin-libdir && mkdir affyContam.buildbin-libdir && E:\biocbuild\bbs-3.19-bioc\R\bin\R.exe CMD INSTALL --build --library=affyContam.buildbin-libdir affyContam_1.62.0.tar.gz StartedAt: 2024-10-17 07:18:13 -0400 (Thu, 17 Oct 2024) EndedAt: 2024-10-17 07:18:23 -0400 (Thu, 17 Oct 2024) EllapsedTime: 9.9 seconds RetCode: 0 Status: OK PackageFile: affyContam_1.62.0.zip PackageFileSize: 216.8 KiB