Package: affyContam Version: 1.62.0 Command: E:\biocbuild\bbs-3.19-bioc\R\bin\R.exe CMD check --no-multiarch --install=check:affyContam.install-out.txt --library=E:\biocbuild\bbs-3.19-bioc\R\library --no-vignettes --timings affyContam_1.62.0.tar.gz StartedAt: 2024-10-16 22:43:12 -0400 (Wed, 16 Oct 2024) EndedAt: 2024-10-16 22:44:01 -0400 (Wed, 16 Oct 2024) EllapsedTime: 49.2 seconds RetCode: 0 Status: OK CheckDir: affyContam.Rcheck Warnings: 0