Package: affyILM Version: 1.56.0 Command: rm -rf affyILM.buildbin-libdir && mkdir affyILM.buildbin-libdir && /Users/biocbuild/BBS/utils/build-universal.sh affyILM_1.56.0.tar.gz /Library/Frameworks/R.framework/Resources/bin/R affyILM.buildbin-libdir StartedAt: 2024-10-17 15:36:02 -0400 (Thu, 17 Oct 2024) EndedAt: 2024-10-17 15:36:35 -0400 (Thu, 17 Oct 2024) EllapsedTime: 32.8 seconds RetCode: 0 Status: OK PackageFile: affyILM_1.56.0.tgz PackageFileSize: 506.3 KiB