Package: affyILM Version: 1.56.0 Command: /Library/Frameworks/R.framework/Resources/bin/R CMD INSTALL affyILM StartedAt: 2024-10-16 15:17:50 -0400 (Wed, 16 Oct 2024) EndedAt: 2024-10-16 15:18:22 -0400 (Wed, 16 Oct 2024) EllapsedTime: 31.4 seconds RetCode: 0 Status: OK