Package: affyILM Version: 1.56.0 Command: chmod a+r affyILM -R && E:\biocbuild\bbs-3.19-bioc\R\bin\R.exe CMD build --keep-empty-dirs --no-resave-data affyILM StartedAt: 2024-10-16 17:30:05 -0400 (Wed, 16 Oct 2024) EndedAt: 2024-10-16 17:31:11 -0400 (Wed, 16 Oct 2024) EllapsedTime: 65.9 seconds RetCode: 0 Status: OK PackageFile: affyILM_1.56.0.tar.gz PackageFileSize: 123.1 KiB