Package: affyILM Version: 1.56.0 Command: E:\biocbuild\bbs-3.19-bioc\R\bin\R.exe CMD INSTALL affyILM StartedAt: 2024-10-16 16:13:18 -0400 (Wed, 16 Oct 2024) EndedAt: 2024-10-16 16:13:39 -0400 (Wed, 16 Oct 2024) EllapsedTime: 21.5 seconds RetCode: 0 Status: OK