Package: affycomp Version: 1.80.0 Command: /Library/Frameworks/R.framework/Resources/bin/R CMD check --install=check:affycomp.install-out.txt --library=/Library/Frameworks/R.framework/Resources/library --no-vignettes --timings affycomp_1.80.0.tar.gz StartedAt: 2024-06-10 06:57:25 -0400 (Mon, 10 Jun 2024) EndedAt: 2024-06-10 06:58:29 -0400 (Mon, 10 Jun 2024) EllapsedTime: 64.7 seconds RetCode: 0 Status: OK CheckDir: affycomp.Rcheck Warnings: 0