Package: affycomp Version: 1.80.0 Command: rm -rf affycomp.buildbin-libdir && mkdir affycomp.buildbin-libdir && /Users/biocbuild/BBS/utils/build-universal.sh affycomp_1.80.0.tar.gz /Library/Frameworks/R.framework/Resources/bin/R affycomp.buildbin-libdir StartedAt: 2024-10-17 15:35:58 -0400 (Thu, 17 Oct 2024) EndedAt: 2024-10-17 15:36:12 -0400 (Thu, 17 Oct 2024) EllapsedTime: 14.1 seconds RetCode: 0 Status: OK PackageFile: affycomp_1.80.0.tgz PackageFileSize: 8.107 MiB