Package: affycomp Version: 1.80.0 Command: /home/biocbuild/bbs-3.19-bioc/R/bin/R CMD INSTALL affycomp StartedAt: 2024-10-16 15:49:39 -0400 (Wed, 16 Oct 2024) EndedAt: 2024-10-16 15:49:52 -0400 (Wed, 16 Oct 2024) EllapsedTime: 13.4 seconds RetCode: 0 Status: OK