Package: affycomp Version: 1.80.0 Command: E:\biocbuild\bbs-3.19-bioc\R\bin\R.exe CMD INSTALL affycomp StartedAt: 2024-10-16 16:02:09 -0400 (Wed, 16 Oct 2024) EndedAt: 2024-10-16 16:02:24 -0400 (Wed, 16 Oct 2024) EllapsedTime: 14.6 seconds RetCode: 0 Status: OK