Package: affycoretools Version: 1.76.0 Command: /home/biocbuild/bbs-3.19-bioc/R/bin/R CMD build --keep-empty-dirs --no-resave-data affycoretools StartedAt: 2024-10-16 16:52:07 -0400 (Wed, 16 Oct 2024) EndedAt: 2024-10-16 16:53:42 -0400 (Wed, 16 Oct 2024) EllapsedTime: 95.2 seconds RetCode: 0 Status: OK PackageFile: affycoretools_1.76.0.tar.gz PackageFileSize: 6.594 MiB